BEGIN:VCALENDAR
VERSION:2.0
PRODID:-//eventon.com NONSGML v1.0//EN
CALSCALE:GREGORIAN
METHOD:PUBLISH
BEGIN:VEVENT
UID:69eb3c97e3087
DTSTAMP:20260424T094911Z
DTSTART:20201204T170000Z
DTEND:20201204T183000Z
LOCATION:https://zoom.us/j/97224185974?pwd=WllZREJYNnNFYkptbm40S1oxd2hMZz09
SUMMARY:اليوم العالمي لقابلية الاستخدام | Arab World Usability Day 2020
DESCRIPTION:لمشاهدة الجلسة: في عصر الانفجار ال
 علوماتي الكبير، وسهولة الوصول إلى الإنت
 نت في كل مكان ولجميع الفئات، أصبحت قابلي
  الاستخدام في تطبيقات الموبايل ومواقع ال
 إنترنت أمرًا في غاية الأهمية ولا غنى عنها
 ، ويسعدنا إحياء اليوم العالمي لقابلية ال
 ستخدام وتسليط الضوء عليه في منصّة تعلّم 
 لكتابة لتجربة المستخدم بالعربية بالتعاو
 ن مع مؤسسة[..]\nhttps://staging.uxwritingar.com/events/2020-arab-wo
 rld-usability-day/var/event_access
URL:https://staging.uxwritingar.com/events/2020-arab-world-usability-day/var/event_access
END:VEVENT
END:VCALENDAR