BEGIN:VCALENDAR
VERSION:2.0
PRODID:-//eventon.com NONSGML v1.0//EN
CALSCALE:GREGORIAN
METHOD:PUBLISH
BEGIN:VEVENT
UID:69eb3c8e26d84
DTSTAMP:20260424T094902Z
DTSTART:20210310T172000Z
DTEND:20210310T182000Z
LOCATION:
SUMMARY:مقدمة في الكتابة لتجربة المستخدم
DESCRIPTION:لمشاهدة تسجيل الجلسة: https://www.youtube.com
 /live/IFh4C738DI0?si=-A7RanMPT-FUvaxS &nbsp; يسعدنا بالتعاون 
 مع ثرا ميديا، تقديم جلسة أون لاين بعنوان: 
 مقدمة في الكتابة لتجربة المستخدم | introductio
 n to UX Writing عناصر اللقاء:  مقدمة في الكتابة 
 لتجربة المستخدم (UX Writing) وتصميم المنتج (Produ
 ct Design).  الأبحاث في الكتابة لتجربة المستخ
 دم (Research).  أهمية النبرة والصوت (Voice &amp; Tone)
 .   دليل[..]\nhttps://staging.uxwritingar.com/events/introduction-to-u
 x-writing/
URL:https://staging.uxwritingar.com/events/introduction-to-ux-writing/
END:VEVENT
END:VCALENDAR