BEGIN:VCALENDAR
VERSION:2.0
PRODID:-//eventon.com NONSGML v1.0//EN
CALSCALE:GREGORIAN
METHOD:PUBLISH
BEGIN:VEVENT
UID:69eb4f41adfa5
DTSTAMP:20260424T110849Z
DTSTART:20210330T170000Z
DTEND:20210330T180000Z
LOCATION:https://zoom.us/j/96321755512?pwd=ZFJIc2tzK2hvbkU0TXhBRmJxeHhnUT09
SUMMARY:برنامج Adobe xD في إثراء تجربة المستخدم
DESCRIPTION:لمشاهدة الجلسة: برنامج Adobe xD يعدّ م
  البرامج الهامة لكل مصمّم لواجهة الاستخد
 ام وحتى كاتب تجربة المستخدم، ويعدّ من أكث
 ر البرامج استخدامًا في المشاريع الرقمية 
 واء كانت مواقع إلكترونية أو تطبيقات للمو
 بايل. وبسبب انتشاره يسعدنا تقديم جلسة (أو
  لاين) هامة وثرية عن البرنامج وأهم التلمي
 حات والنصائح الخاصة به من الخبيرة[..]\nhttps://
 staging.uxwritingar.com/events/adobe-xd-for-ux-and-ux-writing/var/event_acc
 ess
URL:https://staging.uxwritingar.com/events/adobe-xd-for-ux-and-ux-writing/var/event_access
END:VEVENT
END:VCALENDAR