BEGIN:VCALENDAR
VERSION:2.0
PRODID:-//eventon.com NONSGML v1.0//EN
CALSCALE:GREGORIAN
METHOD:PUBLISH
BEGIN:VEVENT
UID:69eb3cbf8e655
DTSTAMP:20260424T094951Z
DTSTART:20210611T153000Z
DTEND:20210611T163000Z
LOCATION:https://twitch.com/githubeducation
SUMMARY:GitHub Education حديث تقني: كتابة تجربة المستخدم
DESCRIPTION:لمشاهدة الجلسة: https://www.twitch.tv/videos/10528
 74104?collection=8ibgvEiwiBbZXA &nbsp; يسعدنا بالتعاون مع G
 itHub Education، تقديم جلسة أون لاين بعنوان: مقد
 ة إلى كتابة تجربة المستخدم | introduction to UX Wr
 iting عناصر اللقاء:  مقدمة في كتابة تجربة ال
 مستخدم (UX Writing) .  الأبحاث في كتابة تجربة ا
 لمستخدم (Research).  أهمية النبرة والصوت (Voice &
 amp; Tone).   دليل أسلوب كتابة المحتوى (Content Sty
 le[..]\nhttps://staging.uxwritingar.com/events/github-education-uxwriting/v
 ar/event_access
URL:https://staging.uxwritingar.com/events/github-education-uxwriting/var/event_access
END:VEVENT
END:VCALENDAR