BEGIN:VCALENDAR
VERSION:2.0
PRODID:-//eventon.com NONSGML v1.0//EN
CALSCALE:GREGORIAN
METHOD:PUBLISH
BEGIN:VEVENT
UID:69eb3c94a7632
DTSTAMP:20260424T094908Z
DTSTART:20210730T170000Z
DTEND:20210730T180000Z
LOCATION:https://us06web.zoom.us/j/85720673928?pwd=RWhTOFM2QzA2ZUYvZmx6Tkg0TStidz09
SUMMARY:الذكاء الاصطناعي في خدمة اللغة العربية
DESCRIPTION:لمشاهدة الجلسة: يسعدنا تقديم جلسة 
 التعاون مع قلم مساعد الكتابة الذكي أن نق
 ّم جلسة طال انتظارها وهامة لكل من يعملون 
 في مجال الكتابة وكتابة تجربة المستخدم بع
 وان: الذكاء الاصطناعي في خدمة اللغة العر
 بية  عناصر الجلسة: كيف يمكن تسخير قدرات و
 طبيقات الذكاء الاصطناعي في خدمة اللغة ال
 عربية. كيف ستقوم هذه التطبيقات على[..]\nhttps:/
 /staging.uxwritingar.com/events/artificial-intelligence-for-arabic-language
 /var/event_access
URL:https://staging.uxwritingar.com/events/artificial-intelligence-for-arabic-language/var/event_access
END:VEVENT
END:VCALENDAR