BEGIN:VCALENDAR
VERSION:2.0
PRODID:-//eventon.com NONSGML v1.0//EN
CALSCALE:GREGORIAN
METHOD:PUBLISH
BEGIN:VEVENT
UID:69eb3c75456ed
DTSTAMP:20260424T094837Z
DTSTART:20210804T170000Z
DTEND:20210804T060000Z
LOCATION:https://youtu.be/cXFroXG2Mug
SUMMARY:مقدمة إلى كتابة تجربة المستخدم (أيام Google الرقمية)
DESCRIPTION:لمشاهدة الجلسة: ضمن فعاليات أيام Goo
 gle الرقمية، يسعدنا دعوتكم لحضور جلسة في غ
 ية الأهمية بعنوان: مقدّمة إلى كتابة تجرب
  المستخدم (UX Writing) محاضر الجلسة: أ. محمود ع
 دربه، كاتب تجربة المستخدم ومصمّم محتوى م
 قدمة إلى كتابة تجربة المستخدم عناصر الجل
 ة: مقدمة في كتابة تجربة المستخدم (UX Writing). 
 لأبحاث في كتابة تجربة[..]\nhttps://staging.uxwritingar.c
 om/events/%d9%85%d9%82%d8%af%d9%85%d8%a9-%d8%a5%d9%84%d9%89-%d9%83%d8%aa%d8
 %a7%d8%a8%d8%a9-%d8%aa%d8%ac%d8%b1%d8%a8%d8%a9-%d8%a7%d9%84%d9%85%d8%b3%d8%
 aa%d8%ae%d8%af%d9%85-%d8%a3%d9%8a%d8%a7%d9%85-google-%d8%a7/var/event_acces
 s
URL:https://staging.uxwritingar.com/events/%d9%85%d9%82%d8%af%d9%85%d8%a9-%d8%a5%d9%84%d9%89-%d9%83%d8%aa%d8%a7%d8%a8%d8%a9-%d8%aa%d8%ac%d8%b1%d8%a8%d8%a9-%d8%a7%d9%84%d9%85%d8%b3%d8%aa%d8%ae%d8%af%d9%85-%d8%a3%d9%8a%d8%a7%d9%85-google-%d8%a7/var/event_access
END:VEVENT
END:VCALENDAR