BEGIN:VCALENDAR
VERSION:2.0
PRODID:-//eventon.com NONSGML v1.0//EN
CALSCALE:GREGORIAN
METHOD:PUBLISH
BEGIN:VEVENT
UID:69eb3c9032fd9
DTSTAMP:20260424T094904Z
DTSTART:20211001T170000Z
DTEND:20211001T180000Z
LOCATION:zoom zoom app
SUMMARY:تعريب البرمجيات لتحسين تصميم المحتوى
DESCRIPTION:لمشاهدة الجلسة: يُسعدنا الإعلان عن
  جلسة جديدة من جلسات منصّة تعلّم كتابة تج
 بة المستخدم بالعربية، ولقاء مميّز وحصري 
 بعنوان: تعريب البرمجيات لتحسين تصميم الم
 توى، يصحبنا في هذا اللقاء الممتع الخبير 
 في مجال تعريب البرمجيات وأحد أهم أعضاء فر
 يق تعريب WordPress الشهير ضيف الجلسة المتحدّث
 : أ. نبيل مقبل LM &amp; GTE at[..]\nhttps://staging.uxwritingar.co
 m/events/%d8%aa%d8%b9%d8%b1%d9%8a%d8%a8-%d8%a7%d9%84%d8%a8%d8%b1%d9%85%d8%a
 c%d9%8a%d8%a7%d8%aa-%d9%84%d8%aa%d8%ad%d8%b3%d9%8a%d9%86-%d8%aa%d8%b5%d9%85
 %d9%8a%d9%85-%d8%a7%d9%84%d9%85%d8%ad%d8%aa%d9%88%d9%89/
URL:https://staging.uxwritingar.com/events/%d8%aa%d8%b9%d8%b1%d9%8a%d8%a8-%d8%a7%d9%84%d8%a8%d8%b1%d9%85%d8%ac%d9%8a%d8%a7%d8%aa-%d9%84%d8%aa%d8%ad%d8%b3%d9%8a%d9%86-%d8%aa%d8%b5%d9%85%d9%8a%d9%85-%d8%a7%d9%84%d9%85%d8%ad%d8%aa%d9%88%d9%89/
END:VEVENT
END:VCALENDAR