BEGIN:VCALENDAR
VERSION:2.0
PRODID:-//eventon.com NONSGML v1.0//EN
CALSCALE:GREGORIAN
METHOD:PUBLISH
BEGIN:VEVENT
UID:69eb3cdb6d67c
DTSTAMP:20260424T095019Z
DTSTART:20210928T160000Z
DTEND:20210928T173000Z
LOCATION:
SUMMARY:اليوم العالمي لتصميم التفاعل (IxDD) - تأثير الكلمة
DESCRIPTION:لمشاهدة الجلسة: يُسعدنا في منصّة ت
 لّم كتابة تجربة المستخدم وتصميم المحتوى 
 بالعربية دعوتكم لحضور جلسة عن: اليوم العا
 لمي لتصميم التفاعل &#8211; نسخة 2021، World Interactio
 n Design Day وتأثير الكلمة اليوم العالمي لتصم
 م التفاعل (World Interaction Design Day) هو حدث سنوي نج
 تمع فيه كمجتمع عالمي موحّد لإظهار كيف يحس
 ّن تصميم التفاعل حالة[..]\nhttps://staging.uxwritingar.co
 m/events/arabic-world-interaction-design-day-2021/
URL:https://staging.uxwritingar.com/events/arabic-world-interaction-design-day-2021/
END:VEVENT
END:VCALENDAR