BEGIN:VCALENDAR
VERSION:2.0
PRODID:-//eventon.com NONSGML v1.0//EN
CALSCALE:GREGORIAN
METHOD:PUBLISH
BEGIN:VEVENT
UID:69eb3c9676346
DTSTAMP:20260424T094910Z
DTSTART:20211102T160000Z
DTEND:20211102T170000Z
LOCATION:https://us06web.zoom.us/j/8922369514?pwd=VXZWcFVtOG9wU201VTZtNXN0ZFNOZz09
SUMMARY:أهمية تصميم الواجهات وضرورتها في سوق العمل
DESCRIPTION:لمشاهدة الجلسة: يُسعدنا الإعلان عن
  جلسة جديدة من جلسات منصّة تعلّم كتابة تج
 بة المستخدم بالعربية وجلسة في غاية الأهم
 ية في مجال تصميم الواجهات وضروتها في سوق 
 لعمل بعنوان: عنوان الجلسة: أهمية تصميم ال
 واجهات وضرورتها في سوق العمل المتحدّث: يق
 دّم الجلسة الخبير أ. حسام غروي محاور الجل
 ة: أهمية تصميم الواجهات. لماذا[..]\nhttps://stagin
 g.uxwritingar.com/events/the-importance-of-interface-design/
URL:https://staging.uxwritingar.com/events/the-importance-of-interface-design/
END:VEVENT
END:VCALENDAR