BEGIN:VCALENDAR
VERSION:2.0
PRODID:-//eventon.com NONSGML v1.0//EN
CALSCALE:GREGORIAN
METHOD:PUBLISH
BEGIN:VEVENT
UID:69eb3c8fc2576
DTSTAMP:20260424T094903Z
DTSTART:20211125T160000Z
DTEND:20211125T173000Z
LOCATION:https://us06web.zoom.us/j/8922369514?pwd=VXZWcFVtOG9wU201VTZtNXN0ZFNOZz09
SUMMARY:اليوم العالمي لقابلية الاستخدام | كيف نصمم محتوى مقروء
DESCRIPTION:يُسعدنا دعوتكم للاحتفال معنا بالي
 م العالمي لقابلية الاستخدام لهذا العالم 
 2021 | World Usability Day الذي يعدّ من أهم مراحل تصم
 م تجربة المستخدم وتحسينها شعار هذا العام
 : تصميم عالمنا الرقمي: الثقة والأخلاقيات 
 النزاهة سنصحبكم في الاحتفال بهذا اليوم ا
 لعالمي مع جلسة شيقة وممتعة جدًا بعنوان: ا
 يوم العالمي لقابلية الاستخدام |[..]\nhttps://sta
 ging.uxwritingar.com/events/world-usability-day-2021/
URL:https://staging.uxwritingar.com/events/world-usability-day-2021/
END:VEVENT
END:VCALENDAR