BEGIN:VCALENDAR
VERSION:2.0
PRODID:-//eventon.com NONSGML v1.0//EN
CALSCALE:GREGORIAN
METHOD:PUBLISH
BEGIN:VEVENT
UID:69eb28f07817e
DTSTAMP:20260424T082520Z
DTSTART:20220615T140000Z
DTEND:20220615T160000Z
LOCATION:
SUMMARY:مقدمة إلى (UX Writing) كتابة تجربة المستخدم
DESCRIPTION:لمشاهدة تسجيل الجلسة: يسعدنا دعوتك
 م لحضور جلسة شيقة بعنوان: مقدمة إلى (UX Writing
 ) كتابة تجربة المستخدم من تنظيم وتنفيذ: مج
 تمع Google السعودي للمطورين ضيف الجلسة الخب
 ر: أ. محمود عبدربه محاور الجلسة:  1- مقدمة 
 ي الكتابة لتجربة المستخدم وتصميم المنتج.
  2- الأبحاث في الكتابة لتجربة المستخدم وأه
 مية النبرة والصوت. 3- دليل[..]\nhttps://staging.uxwritin
 gar.com/events/introduction-to-uxw/
URL:https://staging.uxwritingar.com/events/introduction-to-uxw/
END:VEVENT
END:VCALENDAR