BEGIN:VCALENDAR
VERSION:2.0
PRODID:-//eventon.com NONSGML v1.0//EN
CALSCALE:GREGORIAN
METHOD:PUBLISH
BEGIN:VEVENT
UID:69eb52df52d0d
DTSTAMP:20260424T112415Z
DTSTART:20231104T160000Z
DTEND:20231104T180000Z
LOCATION:https://us06web.zoom.us/j/87276832284?pwd=wU4TDVY3yrFFgXf5UKOZPmQjdmJ5GB.1
SUMMARY:معلومات لا غنى عنها لمصمم تجربة وواجهة المستخدم
DESCRIPTION:لمشاهدة تسجيل الجلسة: يُسعدنا دعوت
 ك لحضور جلسة وفاعلية بعنوان: معلومات لا غ
 ى عنها لمصمم تجربة وواجهة المستخدم مع ال
 بير: م. حسن جاد، مهندس تجربة المستخدم بوز
 رة التجارة السعودية (متعاقد) محاور الجلس
 :  برغم تكامل تخصص تجربة المستخدم مع تصمي
 م واجهة المستخدم إلا أن هناك خلاف أزلي بي
  كلَا الفريقين، خلافات كثيرة[..]\nhttps://staging.
 uxwritingar.com/events/%d9%85%d8%b9%d9%84%d9%88%d9%85%d8%a7%d8%aa-%d9%84%d8
 %a7-%d8%ba%d9%86%d9%89-%d8%b9%d9%86%d9%87%d8%a7-%d9%84%d9%85%d8%b5%d9%85%d9
 %85-%d8%aa%d8%ac%d8%b1%d8%a8%d8%a9-%d9%88%d9%88%d8%a7%d8%ac%d9%87%d8%a9/
URL:https://staging.uxwritingar.com/events/%d9%85%d8%b9%d9%84%d9%88%d9%85%d8%a7%d8%aa-%d9%84%d8%a7-%d8%ba%d9%86%d9%89-%d8%b9%d9%86%d9%87%d8%a7-%d9%84%d9%85%d8%b5%d9%85%d9%85-%d8%aa%d8%ac%d8%b1%d8%a8%d8%a9-%d9%88%d9%88%d8%a7%d8%ac%d9%87%d8%a9/
END:VEVENT
END:VCALENDAR