BEGIN:VCALENDAR
VERSION:2.0
PRODID:-//eventon.com NONSGML v1.0//EN
CALSCALE:GREGORIAN
METHOD:PUBLISH
BEGIN:VEVENT
UID:69eb3cc1471ce
DTSTAMP:20260424T094953Z
DTSTART:20231109T160000Z
DTEND:20231109T173000Z
LOCATION:https://us06web.zoom.us/j/87868693644?pwd=90D3RHAYpDEYNSwQgHG541vXK4ZBHC.1
SUMMARY:اليوم العالمي لقابلية الاستخدام (Usability) | تصميم محتوى مقروء
DESCRIPTION:لمشاهدة تسجيل الجلسة: يُسعدنا دعوت
 كم للاحتفال معنا باليوم العالمي لقابلية 
 لاستخدام لهذا العالم 2023 | World Usability Day الذي
  يعدّ من أهم مراحل تصميم تجربة المستخدم و
 حسينها شعار هذا العام: من أجل حل أكبر مشك
 ات العالم، علينا جميعا العمل معا. في عام 2
 023، سنركز على العمل معا لإيجاد حلول، على[..
 ]\nhttps://staging.uxwritingar.com/events/%d8%a7%d9%84%d9%8a%d9%88%d9%85-%d
 8%a7%d9%84%d8%b9%d8%a7%d9%84%d9%85%d9%8a-%d9%84%d9%82%d8%a7%d8%a8%d9%84%d9%
 8a%d8%a9-%d8%a7%d9%84%d8%a7%d8%b3%d8%aa%d8%ae%d8%af%d8%a7%d9%85-usability-%
 d8%aa%d8%b5/
URL:https://staging.uxwritingar.com/events/%d8%a7%d9%84%d9%8a%d9%88%d9%85-%d8%a7%d9%84%d8%b9%d8%a7%d9%84%d9%85%d9%8a-%d9%84%d9%82%d8%a7%d8%a8%d9%84%d9%8a%d8%a9-%d8%a7%d9%84%d8%a7%d8%b3%d8%aa%d8%ae%d8%af%d8%a7%d9%85-usability-%d8%aa%d8%b5/
END:VEVENT
END:VCALENDAR