BEGIN:VCALENDAR
VERSION:2.0
PRODID:-//eventon.com NONSGML v1.0//EN
CALSCALE:GREGORIAN
METHOD:PUBLISH
BEGIN:VEVENT
UID:69eb3cc00e60d
DTSTAMP:20260424T094952Z
DTSTART:20231228T160000Z
DTEND:20231228T180000Z
LOCATION:https://us06web.zoom.us/j/87048202589?pwd=EdKUu8UMa3JxHb23VYF9dAXfNEOtJ2.1
SUMMARY:تصميم عناصر الواجهات المتقدمة باستخدام Figma
DESCRIPTION:لمشاهدة تسجيل الجلسة: تصميم عناصر 
 لواجهات المتقدمة باستخدام Figma ?️ مع الخب
 ر: م. بدر الشهري &#8211; مصمم تجربة المستخدم (
 UX) بالإتحاد السعودي للأمن السيبراني محاو
  الجلسة:  ما هي المكونات الذكية &#8211; Smart Com
 ponent كيف أبني عناصر التصميم المتقدمة أمثل
  واقعية ونماذج ادوات مساعدة لـ Figma أسئلة 
 نقاش\nhttps://staging.uxwritingar.com/events/%d8%aa%d8%b5%d9%85%d9%8a%
 d9%85-%d8%b9%d9%86%d8%a7%d8%b5%d8%b1-%d8%a7%d9%84%d9%88%d8%a7%d8%ac%d9%87%d
 8%a7%d8%aa-%d8%a7%d9%84%d9%85%d8%aa%d9%82%d8%af%d9%85%d8%a9-%d8%a8%d8%a7%d8
 %b3%d8%aa%d8%ae%d8%af/
URL:https://staging.uxwritingar.com/events/%d8%aa%d8%b5%d9%85%d9%8a%d9%85-%d8%b9%d9%86%d8%a7%d8%b5%d8%b1-%d8%a7%d9%84%d9%88%d8%a7%d8%ac%d9%87%d8%a7%d8%aa-%d8%a7%d9%84%d9%85%d8%aa%d9%82%d8%af%d9%85%d8%a9-%d8%a8%d8%a7%d8%b3%d8%aa%d8%ae%d8%af/
END:VEVENT
END:VCALENDAR