BEGIN:VCALENDAR
VERSION:2.0
PRODID:-//eventon.com NONSGML v1.0//EN
CALSCALE:GREGORIAN
METHOD:PUBLISH
BEGIN:VEVENT
UID:69eb3db912775
DTSTAMP:20260424T095401Z
DTSTART:20240217T160000Z
DTEND:20240217T173000Z
LOCATION:https://us06web.zoom.us/j/81912401566?pwd=bJTaSunBbffkvM9i7WdNIrSlkR9Vgv.1
SUMMARY:المقابلات الوظيفية في مجال تجربة المستخدم
DESCRIPTION:لمشاهدة تسجيل الجلسة: المقابلات ال
 وظيفية في مجال تجربة المستخدم 🎙️ مع الخ
 يرة: أ. سارة الجثلان &#8211; مدير منتج | مصممة
  تجربة مستخدم | مصممة في مجال التفكير التص
 ميمي 📌 محاور الجلسة: نصائح عامة في المقا
 لات نصائح للمجال وضع المصمم في السوق وأه
 افه الوظيفية التحديات للتصميم في المقاب
 ة الرد على المقابلة[..]\nhttps://staging.uxwritingar.com/e
 vents/%d8%a7%d9%84%d9%85%d9%82%d8%a7%d8%a8%d9%84%d8%a7%d8%aa-%d8%a7%d9%84%d
 9%88%d8%b8%d9%8a%d9%81%d9%8a%d9%87-%d9%81%d9%8a-%d9%85%d8%ac%d8%a7%d9%84-%d
 8%aa%d8%ac%d8%b1%d8%a8%d8%a9-%d8%a7%d9%84%d9%85%d8%b3/
URL:https://staging.uxwritingar.com/events/%d8%a7%d9%84%d9%85%d9%82%d8%a7%d8%a8%d9%84%d8%a7%d8%aa-%d8%a7%d9%84%d9%88%d8%b8%d9%8a%d9%81%d9%8a%d9%87-%d9%81%d9%8a-%d9%85%d8%ac%d8%a7%d9%84-%d8%aa%d8%ac%d8%b1%d8%a8%d8%a9-%d8%a7%d9%84%d9%85%d8%b3/
END:VEVENT
END:VCALENDAR