BEGIN:VCALENDAR
VERSION:2.0
PRODID:-//eventon.com NONSGML v1.0//EN
CALSCALE:GREGORIAN
METHOD:PUBLISH
BEGIN:VEVENT
UID:69eb3c8e295bd
DTSTAMP:20260424T094902Z
DTSTART:20240203T160000Z
DTEND:20240203T183000Z
LOCATION:https://us06web.zoom.us/j/88931802049?pwd=LaK9wX2bywNGT7Vld3gpGo1Om7b8jI.1
SUMMARY:عمليات بحث تجربة المستخدم: إطار العمل خطوة بخطوة
DESCRIPTION:لمشاهدة تسجيل الجلسة: عمليات بحث ت
 ربة المستخدم: إطار العمل خطوة بخطوة (UX Resea
 rch Process: A Step-by-Step Framework) 🎙️ مع الخبيرة: أ. و
 د السعيدي &#8211; باحثة تجربة مستخدم في Nomo Fin
 tech وعد السعيدي محاور الجلسة: ١- مقدمة ٢- خط
 وات إجراء البحث ٣- أسئلة وإجابات (الجزء ال
 أول) ٤- طرق ومراحل البحث في[..]\nhttps://staging.uxwrit
 ingar.com/events/%d8%b9%d9%85%d9%84%d9%8a%d8%a7%d8%aa-%d8%a8%d8%ad%d8%ab-%d
 8%aa%d8%ac%d8%b1%d8%a8%d8%a9-%d8%a7%d9%84%d9%85%d8%b3%d8%aa%d8%ae%d8%af%d9%
 85-%d8%a5%d8%b7%d8%a7%d8%b1-%d8%a7%d9%84%d8%b9%d9%85%d9%84-%d8%ae/var/event
 _access
URL:https://staging.uxwritingar.com/events/%d8%b9%d9%85%d9%84%d9%8a%d8%a7%d8%aa-%d8%a8%d8%ad%d8%ab-%d8%aa%d8%ac%d8%b1%d8%a8%d8%a9-%d8%a7%d9%84%d9%85%d8%b3%d8%aa%d8%ae%d8%af%d9%85-%d8%a5%d8%b7%d8%a7%d8%b1-%d8%a7%d9%84%d8%b9%d9%85%d9%84-%d8%ae/var/event_access
END:VEVENT
END:VCALENDAR