BEGIN:VCALENDAR
VERSION:2.0
PRODID:-//eventon.com NONSGML v1.0//EN
CALSCALE:GREGORIAN
METHOD:PUBLISH
BEGIN:VEVENT
UID:69e5de3277ff8
DTSTAMP:20260420T080506Z
DTSTART:20240419T160000Z
DTEND:20240419T173000Z
LOCATION:https://us06web.zoom.us/j/89780394524?pwd=FzEwtraKHeQoJJHPQJRpDLgXUM5L5q.1
SUMMARY:علم النفس والتصميم: مبادئ جيشتالت في التصميم الرقمي
DESCRIPTION:لمشاهدة تسجيل الجلسة: علم النفس وا
 تصميم: مبادئ جيشتالت في التصميم الرقمي (Ps
 ychology and Design: Gestalt Principles in Digital Design) 🎙️ مع ا
 خبير: أ. أحمد المنسي &#8211; Lead product designer 📌 م
 اور الجلسة:  1- التكامل بين علم النفس والت
 صميم 2- مقدمة في مبادئ جيستالت 3- تطبيق مبا
 ئ جيستالت في تصميم واجهات[..]\nhttps://staging.uxwrit
 ingar.com/events/%d8%b9%d9%84%d9%85-%d8%a7%d9%84%d9%86%d9%81%d8%b3-%d9%88%d
 8%a7%d9%84%d8%aa%d8%b5%d9%85%d9%8a%d9%85-%d9%85%d8%a8%d8%a7%d8%af%d8%a6-%d8
 %ac%d9%8a%d8%b4%d8%aa%d8%a7%d9%84%d8%aa-%d9%81%d9%8a-%d8%a7%d9%84/var/event
 _access
URL:https://staging.uxwritingar.com/events/%d8%b9%d9%84%d9%85-%d8%a7%d9%84%d9%86%d9%81%d8%b3-%d9%88%d8%a7%d9%84%d8%aa%d8%b5%d9%85%d9%8a%d9%85-%d9%85%d8%a8%d8%a7%d8%af%d8%a6-%d8%ac%d9%8a%d8%b4%d8%aa%d8%a7%d9%84%d8%aa-%d9%81%d9%8a-%d8%a7%d9%84/var/event_access
END:VEVENT
END:VCALENDAR