BEGIN:VCALENDAR
VERSION:2.0
PRODID:-//eventon.com NONSGML v1.0//EN
CALSCALE:GREGORIAN
METHOD:PUBLISH
BEGIN:VEVENT
UID:69eb29517e1a7
DTSTAMP:20260424T082657Z
DTSTART:20240719T160000Z
DTEND:20240719T180000Z
LOCATION:https://us06web.zoom.us/j/86082616063?pwd=WlaC8RYfx9MBsblKwFhQdhjQT2spQK.1
SUMMARY:علاقة التحوّل الرقمي بكتابة تجربة المستخدم
DESCRIPTION:لمشاهدة تسجيل الجلسة: علاقة التحوّ
 ل الرقمي بكتابة تجربة المستخدم 🎙️ مع ال
 بير: أ. عبدالعزيز عثمان &#8211; مدير منتج محا
 ور الجلسة: 1- مقدمة عن التحول الرقمي 2- علاق
 ة التحول الرقمي بكتابة تجربة المستخدم 3- ت
 حول كامل أو جزئي؟ 4- الأسئلة والاستفسارات\
 nhttps://staging.uxwritingar.com/events/%d8%b9%d9%84%d8%a7%d9%82%d8%a9-%d8%
 a7%d9%84%d8%aa%d8%ad%d9%88%d9%91%d9%84-%d8%a7%d9%84%d8%b1%d9%82%d9%85%d9%8a
 -%d8%a8%d9%83%d8%aa%d8%a7%d8%a8%d8%a9-%d8%aa%d8%ac%d8%b1%d8%a8%d8%a9-%d8%a7
 %d9%84%d9%85/var/event_access
URL:https://staging.uxwritingar.com/events/%d8%b9%d9%84%d8%a7%d9%82%d8%a9-%d8%a7%d9%84%d8%aa%d8%ad%d9%88%d9%91%d9%84-%d8%a7%d9%84%d8%b1%d9%82%d9%85%d9%8a-%d8%a8%d9%83%d8%aa%d8%a7%d8%a8%d8%a9-%d8%aa%d8%ac%d8%b1%d8%a8%d8%a9-%d8%a7%d9%84%d9%85/var/event_access
END:VEVENT
END:VCALENDAR