BEGIN:VCALENDAR
VERSION:2.0
PRODID:-//eventon.com NONSGML v1.0//EN
CALSCALE:GREGORIAN
METHOD:PUBLISH
BEGIN:VEVENT
UID:69e5de4fe204d
DTSTAMP:20260420T080535Z
DTSTART:20240802T160000Z
DTEND:20240802T180000Z
LOCATION:https://us06web.zoom.us/j/84649520144?pwd=HaURfMUbL3fsFOUfPGNKji9ahDaiPi.1
SUMMARY:ممارسات شائعة تسبب فشل تجربة العميل (CX) وكيفية حلها
DESCRIPTION:لمشاهدة تسجيل الجلسة: ممارسات شائع
 ة تسبب فشل تجربة العميل (CX) وكيفية حلها 🎙
  مع الخبيرة: أ. نهى عبد التواب &#8211; CX Writing E
 xpert ممارسات شائعة تسبب فشل تجربة العميل (CX
 ) وكيفية حلها محاور الجلسة:  ما هي كتابة ت
 ربة العميل؟ الفرق بينها وكتابة المحتوى؟ 
 أكثر ممارسات شائعة تسبب فشل تجربة العميل[
 ..]\nhttps://staging.uxwritingar.com/events/%d9%85%d9%85%d8%a7%d8%b1%d8%b3%
 d8%a7%d8%aa-%d8%b4%d8%a7%d8%a6%d8%b9%d8%a9-%d8%aa%d8%b3%d8%a8%d8%a8-%d9%81%
 d8%b4%d9%84-%d8%aa%d8%ac%d8%b1%d8%a8%d8%a9-%d8%a7%d9%84%d8%b9%d9%85%d9%8a%d
 9%84-cx-%d9%88/var/event_access
URL:https://staging.uxwritingar.com/events/%d9%85%d9%85%d8%a7%d8%b1%d8%b3%d8%a7%d8%aa-%d8%b4%d8%a7%d8%a6%d8%b9%d8%a9-%d8%aa%d8%b3%d8%a8%d8%a8-%d9%81%d8%b4%d9%84-%d8%aa%d8%ac%d8%b1%d8%a8%d8%a9-%d8%a7%d9%84%d8%b9%d9%85%d9%8a%d9%84-cx-%d9%88/var/event_access
END:VEVENT
END:VCALENDAR