BEGIN:VCALENDAR
VERSION:2.0
PRODID:-//eventon.com NONSGML v1.0//EN
CALSCALE:GREGORIAN
METHOD:PUBLISH
BEGIN:VEVENT
UID:69eb3c755749f
DTSTAMP:20260424T094837Z
DTSTART:20240803T180000Z
DTEND:20240803T190000Z
LOCATION:https://us06web.zoom.us/j/85634023381?pwd=eyG3OU82Y7THmz2wCqdo08rbkhNKge.1
SUMMARY:Object oriented UX الإضافة السحرية في تصميم تجربة المستخدم
DESCRIPTION:لمشاهدة تسجيل الجلسة: (Object oriented UX) ا
 لإضافة السحرية في تصميم تجربة المستخدم 
 ️ مع الخبير: أ.حسن جاد &#8211; Expert UX Engineer Object 
 oriented UX الإضافة السحرية في تصميم تجربة الم
 ستخدم محاور الجلسة:  &#8211; تعريف بالمشكلة &
 #8211; تعريف بالمفهوم &#8211; طريقة الحل &#8211; نص
 ائح للحصول على وظيفة UI UX الأسئلة والاستفس
 ارات.\nhttps://staging.uxwritingar.com/events/object-oriented-ux-%d8%a7
 %d9%84%d8%a5%d8%b6%d8%a7%d9%81%d8%a9-%d8%a7%d9%84%d8%b3%d8%ad%d8%b1%d9%8a%d
 8%a9-%d9%81%d9%8a-%d8%aa%d8%b5%d9%85%d9%8a%d9%85-%d8%aa%d8%ac%d8%b1%d8%a8%d
 8%a9-%d8%a7%d9%84%d9%85/var/event_access
URL:https://staging.uxwritingar.com/events/object-oriented-ux-%d8%a7%d9%84%d8%a5%d8%b6%d8%a7%d9%81%d8%a9-%d8%a7%d9%84%d8%b3%d8%ad%d8%b1%d9%8a%d8%a9-%d9%81%d9%8a-%d8%aa%d8%b5%d9%85%d9%8a%d9%85-%d8%aa%d8%ac%d8%b1%d8%a8%d8%a9-%d8%a7%d9%84%d9%85/var/event_access
END:VEVENT
END:VCALENDAR