BEGIN:VCALENDAR
VERSION:2.0
PRODID:-//eventon.com NONSGML v1.0//EN
CALSCALE:GREGORIAN
METHOD:PUBLISH
BEGIN:VEVENT
UID:69eb29441087e
DTSTAMP:20260424T082644Z
DTSTART:20241109T160000Z
DTEND:20241109T173000Z
LOCATION:https://us06web.zoom.us/j/89556250889?pwd=hKMoe2wEKOZobenXQwlwnmbOnoLpU4.1
SUMMARY:هيكلة المعلومات في الواجهات الرقمية
DESCRIPTION:لمشاهدة تسجيل الجلسة: هيكلة المعلو
 مات في الواجهات الرقمية 🎙️ مع الخبير: أ.
 حمد سمير &#8211; Expert UX/UI Designer محاور الجلسة: 1- 
 تخطيط وهيكلة التصميم 2- مصطلحات هيكلة الت
 ميم 3- طرق التحقق من فاعلية التصميم 4- الأس
 ئلة والاستفسارات\nhttps://staging.uxwritingar.com/events/%d9
 %87%d9%8a%d9%83%d9%84%d8%a9-%d8%a7%d9%84%d9%85%d8%b9%d9%84%d9%88%d9%85%d8%a
 7%d8%aa-%d9%81%d9%8a-%d8%a7%d9%84%d9%88%d8%a7%d8%ac%d9%87%d8%a7%d8%aa-%d8%a
 7%d9%84%d8%b1%d9%82%d9%85%d9%8a%d8%a9/var/event_access
URL:https://staging.uxwritingar.com/events/%d9%87%d9%8a%d9%83%d9%84%d8%a9-%d8%a7%d9%84%d9%85%d8%b9%d9%84%d9%88%d9%85%d8%a7%d8%aa-%d9%81%d9%8a-%d8%a7%d9%84%d9%88%d8%a7%d8%ac%d9%87%d8%a7%d8%aa-%d8%a7%d9%84%d8%b1%d9%82%d9%85%d9%8a%d8%a9/var/event_access
END:VEVENT
END:VCALENDAR